BEGIN:VCALENDAR
VERSION:2.0
PRODID:-//wp-events-plugin.com//7.2.3.1//EN
TZID:Europe/Paris
X-WR-TIMEZONE:Europe/Paris
BEGIN:VEVENT
UID:17@billy-montigny.fr
DTSTART;TZID=Europe/Paris:20260714T204500
DTEND;TZID=Europe/Paris:20260714T233000
DTSTAMP:20260423T140107Z
URL:https://www.billy-montigny.fr/site/events/stade-gabriel-peri/
SUMMARY:Stade Gabriel Péri
DESCRIPTION:\nA l'occasion du concert de la Fête Nationale\, la ville de B
 illy-Montigny aura l'honneur de recevoir Jean-Luc Lahaye.\nEn première pa
 rtie\, retrouvez Lilian\, candidat de The Voice 13\, ainsi qu'un tribute a
 nnées 90.\n\nConcert gratuit - Food trucks et buvette sur place.\n\n\n\n\
 n\nRendez-vous à 20h45 au stade Gabriel Péri.\n
ATTACH;FMTTYPE=image/jpeg:https://www.billy-montigny.fr/site/wp-content/up
 loads/2026/04/2026_04_21_affiche_14_juillet_reseauxsociaux.jpg
LOCATION:Stade Gabriel Péri\, 24 rue de l'Egalité\, Libercourt\, France
X-APPLE-STRUCTURED-LOCATION;VALUE=URI;X-ADDRESS=24 rue de l'Egalité\, Libe
 rcourt\, France;X-APPLE-RADIUS=100;X-TITLE=Stade Gabriel Péri:geo:0,0
END:VEVENT
BEGIN:VTIMEZONE
TZID:Europe/Paris
X-LIC-LOCATION:Europe/Paris
BEGIN:DAYLIGHT
DTSTART:20260329T030000
TZOFFSETFROM:+0100
TZOFFSETTO:+0200
TZNAME:CEST
END:DAYLIGHT
END:VTIMEZONE
END:VCALENDAR